BEGIN:VCALENDAR
PRODID:-//SINGPromos.com//NONSGML v1.0//EN
VERSION:2.0
CALSCALE:GREGORIAN
METHOD:PUBLISH
X-WR-CALNAME:SINGPromos.com
X-ORIGINAL-URL:https://singpromos.com
X-WR-CALDESC:Events for SINGPromos.com
BEGIN:VEVENT
DTSTART:20121228T000000
DTEND:20130209T235900
DTSTAMP:20260424T000131
CREATED:20130116T142659
LAST-MODIFIED:20130130T200844
UID:55713@https://singpromos.com
SUMMARY:Eu Yan Sang CNY Promotions & Offers 28 Dec 2012 - 9 Feb 2013
DESCRIPTION:Welcome the abundance of luck and joy of spring together with Eu Yan Sang as they presen to you loads of great gifts and health offerings this Lunar New Year. For more information, visit [ https://singpromos.com/health/eu-yan-sang-cny-promotions-offers-28-dec-2012-9-feb-2013-55713/ ]. 
LOCATION:
URL:https://singpromos.com/health/eu-yan-sang-cny-promotions-offers-28-dec-2012-9-feb-2013-55713/
END:VEVENT
END:VCALENDAR