BEGIN:VCALENDAR
PRODID:-//SINGPromos.com//NONSGML v1.0//EN
VERSION:2.0
CALSCALE:GREGORIAN
METHOD:PUBLISH
X-WR-CALNAME:SINGPromos.com
X-ORIGINAL-URL:https://singpromos.com
X-WR-CALDESC:Events for SINGPromos.com
BEGIN:VEVENT
DTSTART:20130117T000000
DTEND:20130209T235900
DTSTAMP:20260420T013753
CREATED:20130118T132624
LAST-MODIFIED:20130118T132625
UID:56007@https://singpromos.com
SUMMARY:F3 Warehouse, Wallis, Maxstudio.Com, Bcbgmaxazria, Karen Millen Free Voucher Promo 17 Jan - 9 Feb 2013
DESCRIPTION:Shop for your Lunar New Year outfits at your favourite F3 Elite stores and enjoy FREE vouchers. For more information, visit [ https://singpromos.com/fashion-accessories/f3-warehouse-wallis-maxstudio-com-bcbgmaxazria-karen-millen-free-voucher-promo-17-jan-9-feb-2013-56007/ ]. 
LOCATION:
URL:https://singpromos.com/fashion-accessories/f3-warehouse-wallis-maxstudio-com-bcbgmaxazria-karen-millen-free-voucher-promo-17-jan-9-feb-2013-56007/
END:VEVENT
END:VCALENDAR