BEGIN:VCALENDAR
PRODID:-//SINGPromos.com//NONSGML v1.0//EN
VERSION:2.0
CALSCALE:GREGORIAN
METHOD:PUBLISH
X-WR-CALNAME:SINGPromos.com
X-ORIGINAL-URL:https://singpromos.com
X-WR-CALDESC:Events for SINGPromos.com
BEGIN:VEVENT
DTSTART:20130117T000000
DTEND:20130123T235900
DTSTAMP:20260420T061850
CREATED:20130118T124524
LAST-MODIFIED:20130120T150014
UID:56063@https://singpromos.com
SUMMARY:Guardian New Moon Abalone Gift Sets, Health, Beauty & Personal Care Offers 17 - 23 Jan 2013
DESCRIPTION:Here's Guardian's lasts weekly promotion from 17 January to 23 January 2013, featuring New Moon abalone gift sets.. For more information, visit [ https://singpromos.com/department-stores/guardian-new-moon-abalone-gift-sets-health-beauty-personal-care-offers-17-23-jan-2013-56063/ ]. 
LOCATION:
URL:https://singpromos.com/department-stores/guardian-new-moon-abalone-gift-sets-health-beauty-personal-care-offers-17-23-jan-2013-56063/
END:VEVENT
END:VCALENDAR