BEGIN:VCALENDAR
PRODID:-//SINGPromos.com//NONSGML v1.0//EN
VERSION:2.0
CALSCALE:GREGORIAN
METHOD:PUBLISH
X-WR-CALNAME:SINGPromos.com
X-ORIGINAL-URL:https://singpromos.com
X-WR-CALDESC:Events for SINGPromos.com
BEGIN:VEVENT
DTSTART:20130124T000000
DTEND:20130130T235900
DTSTAMP:20260420T061929
CREATED:20130126T081911
LAST-MODIFIED:20130126T081911
UID:56941@https://singpromos.com
SUMMARY:Watsons Personal Care, Health, Cosmetics &amp; Beauty Offers 24 - 30 Jan 2013
DESCRIPTION:Here is Watsons latest weekly promotion offers from 24 January to 30 January 2013. . For more information, visit [ https://singpromos.com/department-stores/watsons-personal-care-health-cosmetics-beauty-offers-24-30-jan-2013-56941/ ]. 
LOCATION:
URL:https://singpromos.com/department-stores/watsons-personal-care-health-cosmetics-beauty-offers-24-30-jan-2013-56941/
END:VEVENT
END:VCALENDAR