BEGIN:VCALENDAR
PRODID:-//SINGPromos.com//NONSGML v1.0//EN
VERSION:2.0
CALSCALE:GREGORIAN
METHOD:PUBLISH
X-WR-CALNAME:SINGPromos.com
X-ORIGINAL-URL:https://singpromos.com
X-WR-CALDESC:Events for SINGPromos.com
BEGIN:VEVENT
DTSTART:20110409T000000
DTEND:20110410T235900
DTSTAMP:20260420T013710
CREATED:20110402T220518
LAST-MODIFIED:20110402T220518
UID:5703@https://singpromos.com
SUMMARY:Yamaha Piano Fair 2011 @ Suntec City 9 - 10 Apr 2011
DESCRIPTION:Yamaha is organizing a piano fair on 9 - 10 April 2011 at Suntec City with a sale of pianos as well as performances and trial lessons . Piano models featured on the ad are U1J, U1, JU109, GB1K, GC1, DGC1E3, DU1E3, JX113T, M112T, YUS5, M112, YM5, JU109, U1J, U1, CLP Series, CVP Series and more. For more information, visit [ https://singpromos.com/music/yamaha-piano-fair-2011-suntec-city-9-10-apr-2011-5703/ ]. 
LOCATION:
URL:https://singpromos.com/music/yamaha-piano-fair-2011-suntec-city-9-10-apr-2011-5703/
END:VEVENT
END:VCALENDAR