BEGIN:VCALENDAR
PRODID:-//SINGPromos.com//NONSGML v1.0//EN
VERSION:2.0
CALSCALE:GREGORIAN
METHOD:PUBLISH
X-WR-CALNAME:SINGPromos.com
X-ORIGINAL-URL:https://singpromos.com
X-WR-CALDESC:Events for SINGPromos.com
BEGIN:VEVENT
DTSTART:20130201T000000
DTEND:20130203T235900
DTSTAMP:20260422T082115
CREATED:20130202T104323
LAST-MODIFIED:20130202T024613
UID:57774@https://singpromos.com
SUMMARY:Audio House Electronics, TV, Notebooks & Appliances Offers 1 - 3 Feb 2013
DESCRIPTION:Audio House is having a CNY Sure-Win Ang Pow - Win up to 50% refund via Audio House Vouchers from 1 February to 3 February 2013 with minimum spending of $100 per item. For more information, visit [ https://singpromos.com/department-stores/audio-house-electronics-tv-notebooks-appliances-offers-1-3-feb-2013-57774/ ]. 
LOCATION:
URL:https://singpromos.com/department-stores/audio-house-electronics-tv-notebooks-appliances-offers-1-3-feb-2013-57774/
END:VEVENT
END:VCALENDAR