BEGIN:VCALENDAR
PRODID:-//SINGPromos.com//NONSGML v1.0//EN
VERSION:2.0
CALSCALE:GREGORIAN
METHOD:PUBLISH
X-WR-CALNAME:SINGPromos.com
X-ORIGINAL-URL:https://singpromos.com
X-WR-CALDESC:Events for SINGPromos.com
BEGIN:VEVENT
DTSTART:20130201T000000
DTEND:20130206T235900
DTSTAMP:20260424T034457
CREATED:20130202T084127
LAST-MODIFIED:20130202T024313
UID:57780@https://singpromos.com
SUMMARY:Cold Storage Abalone & Baby Milk Powders Offers 1 - 6 Feb 2013
DESCRIPTION:Cold Storage is having a Baby Fair promotion offer till 6 February 2013 and selected abalone offers. Offers may not be available at all outlets. For more information, visit [ https://singpromos.com/babies-mothers/cold-storage-abalone-baby-milk-powders-offers-1-6-feb-2013-57780/ ]. 
LOCATION:
URL:https://singpromos.com/babies-mothers/cold-storage-abalone-baby-milk-powders-offers-1-6-feb-2013-57780/
END:VEVENT
END:VCALENDAR