BEGIN:VCALENDAR
PRODID:-//SINGPromos.com//NONSGML v1.0//EN
VERSION:2.0
CALSCALE:GREGORIAN
METHOD:PUBLISH
X-WR-CALNAME:SINGPromos.com
X-ORIGINAL-URL:https://singpromos.com
X-WR-CALDESC:Events for SINGPromos.com
BEGIN:VEVENT
DTSTART:20130208T000000
DTEND:20130208T235900
DTSTAMP:20260424T023530
CREATED:20130208T085049
LAST-MODIFIED:20130208T035526
UID:58301@https://singpromos.com
SUMMARY:NTUC Fairprice Golden Chef Australian Wild Abalone, Ferrero Rocher & More Offers 8 Feb 2013
DESCRIPTION:NTUC FairPrice continues their Festive Countdown Special with special deals just for 8 February 2013. Each item is limited to 4 units per product per customer. . For more information, visit [ https://singpromos.com/dining-restaurants-food/ntuc-fairprice-golden-chef-australian-wild-abalone-ferrero-rocher-more-offers-8-feb-2013-58301/ ]. 
LOCATION:
URL:https://singpromos.com/dining-restaurants-food/ntuc-fairprice-golden-chef-australian-wild-abalone-ferrero-rocher-more-offers-8-feb-2013-58301/
END:VEVENT
END:VCALENDAR