BEGIN:VCALENDAR
PRODID:-//SINGPromos.com//NONSGML v1.0//EN
VERSION:2.0
CALSCALE:GREGORIAN
METHOD:PUBLISH
X-WR-CALNAME:SINGPromos.com
X-ORIGINAL-URL:https://singpromos.com
X-WR-CALDESC:Events for SINGPromos.com
BEGIN:VEVENT
DTSTART:20130214T000000
DTEND:20130220T235900
DTSTAMP:20260420T061851
CREATED:20130215T082204
LAST-MODIFIED:20130215T022412
UID:58639@https://singpromos.com
SUMMARY:Harvey Norman Digital Camera Offers 14 - 20 Feb 2013
DESCRIPTION:Nothing Beats The Real Stuff. Enjoy special offers on Tripod, Dry Cabinet and Photo Printer with purchase of selected digital cameras. . For more information, visit [ https://singpromos.com/digital-cameras-dslr/harvey-norman-digital-camera-offers-14-20-feb-2013-58639/ ]. 
LOCATION:
URL:https://singpromos.com/digital-cameras-dslr/harvey-norman-digital-camera-offers-14-20-feb-2013-58639/
END:VEVENT
END:VCALENDAR