BEGIN:VCALENDAR
PRODID:-//SINGPromos.com//NONSGML v1.0//EN
VERSION:2.0
CALSCALE:GREGORIAN
METHOD:PUBLISH
X-WR-CALNAME:SINGPromos.com
X-ORIGINAL-URL:https://singpromos.com
X-WR-CALDESC:Events for SINGPromos.com
BEGIN:VEVENT
DTSTART:20130214T000000
DTEND:20130220T235900
DTSTAMP:20260420T061840
CREATED:20130215T135248
LAST-MODIFIED:20130215T015653
UID:58659@https://singpromos.com
SUMMARY:Guardian Health, Beauty & Personal Care Offers 14 - 20 Feb 2013
DESCRIPTION:Here's Guardian's latest weekly promotion from 14 February to 20 February 2013, featuring up to 30% off Guardian Housebrands, new weekly deals and more. For more information, visit [ https://singpromos.com/department-stores/guardian-health-beauty-personal-care-offers-14-20-feb-2013-58659/ ]. 
LOCATION:
URL:https://singpromos.com/department-stores/guardian-health-beauty-personal-care-offers-14-20-feb-2013-58659/
END:VEVENT
END:VCALENDAR