BEGIN:VCALENDAR
PRODID:-//SINGPromos.com//NONSGML v1.0//EN
VERSION:2.0
CALSCALE:GREGORIAN
METHOD:PUBLISH
X-WR-CALNAME:SINGPromos.com
X-ORIGINAL-URL:https://singpromos.com
X-WR-CALDESC:Events for SINGPromos.com
BEGIN:VEVENT
DTSTART:20130215T000000
DTEND:20130221T235900
DTSTAMP:20260420T061929
CREATED:20130216T102833
LAST-MODIFIED:20130216T023058
UID:58750@https://singpromos.com
SUMMARY:Cold Storage Abalones, Ben & Jerry's, Wines & Grocery Offers 15 - 21 Feb 2013
DESCRIPTION:Cold Storage is having a new weekly promotion from 15 February to 21 February 2013 on selected wines, abalones and other grocery offers. For more information, visit [ https://singpromos.com/dining-restaurants-food/cold-storage-abalones-ben-jerrys-wines-grocery-offers-15-21-feb-2013-58750/ ]. 
LOCATION:
URL:https://singpromos.com/dining-restaurants-food/cold-storage-abalones-ben-jerrys-wines-grocery-offers-15-21-feb-2013-58750/
END:VEVENT
END:VCALENDAR