BEGIN:VCALENDAR
PRODID:-//SINGPromos.com//NONSGML v1.0//EN
VERSION:2.0
CALSCALE:GREGORIAN
METHOD:PUBLISH
X-WR-CALNAME:SINGPromos.com
X-ORIGINAL-URL:https://singpromos.com
X-WR-CALDESC:Events for SINGPromos.com
BEGIN:VEVENT
DTSTART:20130307T000000
DTEND:20130310T235900
DTSTAMP:20260420T195658
CREATED:20130219T144809
LAST-MODIFIED:20130311T004916
UID:58884@https://singpromos.com
SUMMARY:IT SHOW 2013 Price List, Floor Plans & Hot Deals 7 - 10 Mar 2013
DESCRIPTION:IT SHOW 2013 is the next IT Show in Singapore with IT related gadgets and hardware going at huge discounts on Mar 2013. It is to be held from 7 March to 10 March 2013 at Marina Bay Sands. For more information, visit [ https://singpromos.com/happenings/it-show-2013-price-list-floor-plans-hot-deals-7-10-mar-2013-58884/ ]. 
LOCATION:
URL:https://singpromos.com/happenings/it-show-2013-price-list-floor-plans-hot-deals-7-10-mar-2013-58884/
END:VEVENT
END:VCALENDAR