BEGIN:VCALENDAR
PRODID:-//SINGPromos.com//NONSGML v1.0//EN
VERSION:2.0
CALSCALE:GREGORIAN
METHOD:PUBLISH
X-WR-CALNAME:SINGPromos.com
X-ORIGINAL-URL:https://singpromos.com
X-WR-CALDESC:Events for SINGPromos.com
BEGIN:VEVENT
DTSTART:20130218T000000
DTEND:20130227T235900
DTSTAMP:20260420T061851
CREATED:20130219T144727
LAST-MODIFIED:20130219T150243
UID:58947@https://singpromos.com
SUMMARY:Awfully Chocolate 1 For 1 Truffles Promo @ Selected Outlets 18 - 28 Feb 2013
DESCRIPTION:Enjoy a 1 for 1 Truffles offer at Awfully Chocolate at selected outlets and selected days till up to 28 February 2013. . For more information, visit [ https://singpromos.com/dining-restaurants-food/awfully-chocolate-1-for-1-truffles-promo-selected-outlets-18-28-feb-2013-58947/ ]. 
LOCATION:
URL:https://singpromos.com/dining-restaurants-food/awfully-chocolate-1-for-1-truffles-promo-selected-outlets-18-28-feb-2013-58947/
END:VEVENT
END:VCALENDAR