BEGIN:VCALENDAR
PRODID:-//SINGPromos.com//NONSGML v1.0//EN
VERSION:2.0
CALSCALE:GREGORIAN
METHOD:PUBLISH
X-WR-CALNAME:SINGPromos.com
X-ORIGINAL-URL:https://singpromos.com
X-WR-CALDESC:Events for SINGPromos.com
BEGIN:VEVENT
DTSTART:20130221T000000
DTEND:20130315T235900
DTSTAMP:20260420T040700
CREATED:20130222T095948
LAST-MODIFIED:20130221T200219
UID:59151@https://singpromos.com
SUMMARY:Malaysia Airlines Promotional Air Fares 21 Feb - 15 Mar 2013
DESCRIPTION:Fly to Paris daily and London twice daily exclusively on Malaysia Airlines A380 planes with their latest promotion valid from 18 February to 15 March 2013. For more information, visit [ https://singpromos.com/airlines-flights/malaysia-airlines-promotional-air-fares-21-feb-15-mar-2013-59151/ ]. 
LOCATION:
URL:https://singpromos.com/airlines-flights/malaysia-airlines-promotional-air-fares-21-feb-15-mar-2013-59151/
END:VEVENT
END:VCALENDAR