BEGIN:VCALENDAR
PRODID:-//SINGPromos.com//NONSGML v1.0//EN
VERSION:2.0
CALSCALE:GREGORIAN
METHOD:PUBLISH
X-WR-CALNAME:SINGPromos.com
X-ORIGINAL-URL:https://singpromos.com
X-WR-CALDESC:Events for SINGPromos.com
BEGIN:VEVENT
DTSTART:20130222T000000
DTEND:20130228T235900
DTSTAMP:20260420T061852
CREATED:20130222T143230
LAST-MODIFIED:20130222T143230
UID:59222@https://singpromos.com
SUMMARY:Cold Storage Abalone, Wines & Grocery Offers 22 - 28 Feb 2013
DESCRIPTION:Looking out for more abalone deals? Check out Cold Storage's abalone and wine Yuan Xiao Specials, valid till 24 February 2013 or while stocks last.. For more information, visit [ https://singpromos.com/dining-restaurants-food/cold-storage-abalone-wines-grocery-offers-22-28-feb-2013-59222/ ]. 
LOCATION:
URL:https://singpromos.com/dining-restaurants-food/cold-storage-abalone-wines-grocery-offers-22-28-feb-2013-59222/
END:VEVENT
END:VCALENDAR