BEGIN:VCALENDAR
PRODID:-//SINGPromos.com//NONSGML v1.0//EN
VERSION:2.0
CALSCALE:GREGORIAN
METHOD:PUBLISH
X-WR-CALNAME:SINGPromos.com
X-ORIGINAL-URL:https://singpromos.com
X-WR-CALDESC:Events for SINGPromos.com
BEGIN:VEVENT
DTSTART:20130223T000000
DTEND:20130224T235900
DTSTAMP:20260424T020638
CREATED:20130224T142523
LAST-MODIFIED:20130224T142523
UID:59355@https://singpromos.com
SUMMARY:Courts Post Season Clearance Sale 23 - 24 Feb 2013
DESCRIPTION:Courts is having a Post Season Clearance! Everything must Go Sale Promotion at Courts stores Islandwide and online from 23 February to 24 February 2013.. For more information, visit [ https://singpromos.com/department-stores/courts-post-season-clearance-sale-23-24-feb-2013-59355/ ]. 
LOCATION:
URL:https://singpromos.com/department-stores/courts-post-season-clearance-sale-23-24-feb-2013-59355/
END:VEVENT
END:VCALENDAR