BEGIN:VCALENDAR
PRODID:-//SINGPromos.com//NONSGML v1.0//EN
VERSION:2.0
CALSCALE:GREGORIAN
METHOD:PUBLISH
X-WR-CALNAME:SINGPromos.com
X-ORIGINAL-URL:https://singpromos.com
X-WR-CALDESC:Events for SINGPromos.com
BEGIN:VEVENT
DTSTART:20130302T000000
DTEND:20130302T235900
DTSTAMP:20260422T082110
CREATED:20130226T102747
LAST-MODIFIED:20130225T204616
UID:59530@https://singpromos.com
SUMMARY:LovethatBag Branded Handbags Sale Up To 75% Off @ Mandarin Orchard Hotel 2 Mar 2013
DESCRIPTION:LovethatBag will be having a luxury branded handbags sale on 2 March 2013, 10am to 8pm at Mandarin Orchard Hotel, . For more information, visit [ https://singpromos.com/handbags/lovethatbag-branded-handbags-sale-up-to-75-off-mandarin-orchard-hotel-2-mar-2013-59530/ ]. 
LOCATION:
URL:https://singpromos.com/handbags/lovethatbag-branded-handbags-sale-up-to-75-off-mandarin-orchard-hotel-2-mar-2013-59530/
END:VEVENT
END:VCALENDAR