BEGIN:VCALENDAR
PRODID:-//SINGPromos.com//NONSGML v1.0//EN
VERSION:2.0
CALSCALE:GREGORIAN
METHOD:PUBLISH
X-WR-CALNAME:SINGPromos.com
X-ORIGINAL-URL:https://singpromos.com
X-WR-CALDESC:Events for SINGPromos.com
BEGIN:VEVENT
DTSTART:20130227T000000
DTEND:20130326T235900
DTSTAMP:20260422T082128
CREATED:20130227T150025
LAST-MODIFIED:20130227T150025
UID:59601@https://singpromos.com
SUMMARY:7-Eleven $69.90 Toshiba 500GB Portable External Storage Offer 27 Feb - 26 Mar 2013
DESCRIPTION:7-Eleven is offering the Toshiba 500GB Portable Hard Disk at only $69.90 (usual $99) for a limited period. . For more information, visit [ https://singpromos.com/computers-pc/7-eleven-69-90-toshiba-500gb-portable-external-storage-offer-27-feb-26-mar-2013-59601/ ]. 
LOCATION:
URL:https://singpromos.com/computers-pc/7-eleven-69-90-toshiba-500gb-portable-external-storage-offer-27-feb-26-mar-2013-59601/
END:VEVENT
END:VCALENDAR