BEGIN:VCALENDAR
PRODID:-//SINGPromos.com//NONSGML v1.0//EN
VERSION:2.0
CALSCALE:GREGORIAN
METHOD:PUBLISH
X-WR-CALNAME:SINGPromos.com
X-ORIGINAL-URL:https://singpromos.com
X-WR-CALDESC:Events for SINGPromos.com
BEGIN:VEVENT
DTSTART:20130228T000000
DTEND:20130306T235900
DTSTAMP:20260420T061851
CREATED:20130301T105538
LAST-MODIFIED:20130301T040301
UID:59710@https://singpromos.com
SUMMARY:Guardian Health, Beauty & Personal Care Offers 28 Feb - 6 Mar 2013
DESCRIPTION:Here's Guardian's latest weekly promotion from 28 February to 6 March 2013, featuring beauty and health brands going at up to 50% off such as Clear, Dove, Grorich, L'Oreal, Revlon as well as a 1 for 1 promotion for selected items till 3 March 2013. For more information, visit [ https://singpromos.com/department-stores/guardian-health-beauty-personal-care-offers-28-feb-6-mar-2013-59710/ ]. 
LOCATION:
URL:https://singpromos.com/department-stores/guardian-health-beauty-personal-care-offers-28-feb-6-mar-2013-59710/
END:VEVENT
END:VCALENDAR