BEGIN:VCALENDAR
PRODID:-//SINGPromos.com//NONSGML v1.0//EN
VERSION:2.0
CALSCALE:GREGORIAN
METHOD:PUBLISH
X-WR-CALNAME:SINGPromos.com
X-ORIGINAL-URL:https://singpromos.com
X-WR-CALDESC:Events for SINGPromos.com
BEGIN:VEVENT
DTSTART:20130301T000000
DTEND:20130310T235900
DTSTAMP:20260422T082112
CREATED:20130302T113134
LAST-MODIFIED:20130301T223528
UID:59809@https://singpromos.com
SUMMARY:Black Hammer & Anna Black 20% Off Promo @ All Retail Boutiques 1 - 10 Mar 2013
DESCRIPTION:Black Hammer & Anna Black is throwing 20% off at all Black Hammer retail boutiques from 1 March to 10 March 2013. For more information, visit [ https://singpromos.com/footwear/black-hammer-anna-black-20-off-promo-all-retail-boutiques-1-10-mar-2013-59809/ ]. 
LOCATION:
URL:https://singpromos.com/footwear/black-hammer-anna-black-20-off-promo-all-retail-boutiques-1-10-mar-2013-59809/
END:VEVENT
END:VCALENDAR