BEGIN:VCALENDAR
PRODID:-//SINGPromos.com//NONSGML v1.0//EN
VERSION:2.0
CALSCALE:GREGORIAN
METHOD:PUBLISH
X-WR-CALNAME:SINGPromos.com
X-ORIGINAL-URL:https://singpromos.com
X-WR-CALDESC:Events for SINGPromos.com
BEGIN:VEVENT
DTSTART:20130307T000000
DTEND:20130310T235900
DTSTAMP:20260424T020704
CREATED:20130308T150401
LAST-MODIFIED:20130316T142521
UID:60178@https://singpromos.com
SUMMARY:M1 IT SHOW 2013 Smartphones, Tablets & Home/Mobile Broadband Offers 7 - 10 Mar 2013
DESCRIPTION:Here is M1's IT SHOW 2013 mobile phones, tablets, home broadband and mobile broadband promotions and special offers presumably valid till 10 Mar 2013. For more information, visit [ https://singpromos.com/telecoms/m1-it-show-2013-smartphones-tablets-homemobile-broadband-offers-7-10-mar-2013-60178/ ]. 
LOCATION:
URL:https://singpromos.com/telecoms/m1-it-show-2013-smartphones-tablets-homemobile-broadband-offers-7-10-mar-2013-60178/
END:VEVENT
END:VCALENDAR