BEGIN:VCALENDAR
PRODID:-//SINGPromos.com//NONSGML v1.0//EN
VERSION:2.0
CALSCALE:GREGORIAN
METHOD:PUBLISH
X-WR-CALNAME:SINGPromos.com
X-ORIGINAL-URL:https://singpromos.com
X-WR-CALDESC:Events for SINGPromos.com
BEGIN:VEVENT
DTSTART:20130304T000000
DTEND:20130331T235900
DTSTAMP:20260420T061841
CREATED:20130309T132127
LAST-MODIFIED:20130309T042542
UID:60262@https://singpromos.com
SUMMARY:Brand's InnerShine Berry Essence 1 For 1 Promo @ Islandwide 4 - 31 Mar 2013
DESCRIPTION:Brand's InnerShine celebrates 20 million bottles popped with a 1 for 1 promotion of Brand's InnerShine Berry Essence with Grape Seed Extract.. For more information, visit [ https://singpromos.com/dining-restaurants-food/brands-innershine-berry-essence-1-for-1-promo-islandwide-4-31-mar-2013-60262/ ]. 
LOCATION:
URL:https://singpromos.com/dining-restaurants-food/brands-innershine-berry-essence-1-for-1-promo-islandwide-4-31-mar-2013-60262/
END:VEVENT
END:VCALENDAR