BEGIN:VCALENDAR
PRODID:-//SINGPromos.com//NONSGML v1.0//EN
VERSION:2.0
CALSCALE:GREGORIAN
METHOD:PUBLISH
X-WR-CALNAME:SINGPromos.com
X-ORIGINAL-URL:https://singpromos.com
X-WR-CALDESC:Events for SINGPromos.com
BEGIN:VEVENT
DTSTART:20130308T000000
DTEND:20130331T235900
DTSTAMP:20260420T013752
CREATED:20130309T133747
LAST-MODIFIED:20130309T044128
UID:60275@https://singpromos.com
SUMMARY:Royal Sporting House Up To 40% Off 2nd Apparel 8 - 31 Mar 2013
DESCRIPTION:Royal Sporting House is having a Double Deals Promotion with up to 40% off on 2nd apparel purchased till 31 March 2013.. For more information, visit [ https://singpromos.com/sports/royal-sporting-house-up-to-40-off-2nd-apparel-8-31-mar-2013-60275/ ]. 
LOCATION:
URL:https://singpromos.com/sports/royal-sporting-house-up-to-40-off-2nd-apparel-8-31-mar-2013-60275/
END:VEVENT
END:VCALENDAR