BEGIN:VCALENDAR
PRODID:-//SINGPromos.com//NONSGML v1.0//EN
VERSION:2.0
CALSCALE:GREGORIAN
METHOD:PUBLISH
X-WR-CALNAME:SINGPromos.com
X-ORIGINAL-URL:https://singpromos.com
X-WR-CALDESC:Events for SINGPromos.com
BEGIN:VEVENT
DTSTART:20130306T000000
DTEND:20130310T235900
DTSTAMP:20260420T172709
CREATED:20130309T194637
LAST-MODIFIED:20130309T165003
UID:60318@https://singpromos.com
SUMMARY:Joe & Dough 1 For 1 Sandwich Promo @ Millenia Walk 6 - 10 Mar 2013
DESCRIPTION:Joe & Dough is offering a opening special 1 for 1 sandwich promo at Millenia Walk from 6 March to 10 March 2013, 11am to 2pm. For more information, visit [ https://singpromos.com/dining-restaurants-food/joe-dough-1-for-1-sandwich-promo-millenia-walk-6-10-mar-2013-60318/ ]. 
LOCATION:
URL:https://singpromos.com/dining-restaurants-food/joe-dough-1-for-1-sandwich-promo-millenia-walk-6-10-mar-2013-60318/
END:VEVENT
END:VCALENDAR