BEGIN:VCALENDAR
PRODID:-//SINGPromos.com//NONSGML v1.0//EN
VERSION:2.0
CALSCALE:GREGORIAN
METHOD:PUBLISH
X-WR-CALNAME:SINGPromos.com
X-ORIGINAL-URL:https://singpromos.com
X-WR-CALDESC:Events for SINGPromos.com
BEGIN:VEVENT
DTSTART:20130329T000000
DTEND:20130331T235900
DTSTAMP:20260420T055005
CREATED:20130317T135447
LAST-MODIFIED:20130328T172650
UID:60939@https://singpromos.com
SUMMARY:Mitju Warehouse Sale Up To 70% Off @ *Scape 29 - 31 Mar 2013
DESCRIPTION:Mitju will be having their 2013 warehouse sale from 29 March to 31 March 2013, 10am to 930pm at *SCAPE Level 2 Warehouse Auditorium. For more information, visit [ https://singpromos.com/warehouse-sales/mitju-warehouse-sale-up-to-70-off-scape-29-31-mar-2013-60939/ ]. 
LOCATION:2 Orchard Link
URL:https://singpromos.com/warehouse-sales/mitju-warehouse-sale-up-to-70-off-scape-29-31-mar-2013-60939/
END:VEVENT
END:VCALENDAR