BEGIN:VCALENDAR
PRODID:-//SINGPromos.com//NONSGML v1.0//EN
VERSION:2.0
CALSCALE:GREGORIAN
METHOD:PUBLISH
X-WR-CALNAME:SINGPromos.com
X-ORIGINAL-URL:https://singpromos.com
X-WR-CALDESC:Events for SINGPromos.com
BEGIN:VEVENT
DTSTART:20130315T000000
DTEND:20130428T235900
DTSTAMP:20260422T202302
CREATED:20130323T162639
LAST-MODIFIED:20130322T223630
UID:61377@https://singpromos.com
SUMMARY:HP Printers & Scanners Promotion Offers 15 Mar - 28 Apr 2013
DESCRIPTION:Make how you print, the envy of all with HP Envy printers. Check out their latest promotion offers for their printers and scanners below valid from 15 Mar to 28 Apr 2013. For more information, visit [ https://singpromos.com/computers-pc/printers/hp-printers-scanners-promotion-offers-15-mar-28-apr-2013-61377/ ]. 
LOCATION:
URL:https://singpromos.com/computers-pc/printers/hp-printers-scanners-promotion-offers-15-mar-28-apr-2013-61377/
END:VEVENT
END:VCALENDAR