BEGIN:VCALENDAR
PRODID:-//SINGPromos.com//NONSGML v1.0//EN
VERSION:2.0
CALSCALE:GREGORIAN
METHOD:PUBLISH
X-WR-CALNAME:SINGPromos.com
X-ORIGINAL-URL:https://singpromos.com
X-WR-CALDESC:Events for SINGPromos.com
BEGIN:VEVENT
DTSTART:20130323T000000
DTEND:20130324T235900
DTSTAMP:20260422T082149
CREATED:20130322T212847
LAST-MODIFIED:20130322T212847
UID:61390@https://singpromos.com
SUMMARY:Sealy Posturepedic Mattress Up To 65% Off Sale @ SIS Building 23 - 24 Mar 2013
DESCRIPTION:Sealy Posturepedic will be having a two day Truckload Sale from 23 March to 24 March 2013, 10am to 5pm at SIS Building. . For more information, visit [ https://singpromos.com/warehouse-sales/sealy-posturepedic-mattress-up-to-65-off-sale-sis-building-23-24-mar-2013-61390/ ]. 
LOCATION:4 Leng Kee Road
URL:https://singpromos.com/warehouse-sales/sealy-posturepedic-mattress-up-to-65-off-sale-sis-building-23-24-mar-2013-61390/
END:VEVENT
END:VCALENDAR