BEGIN:VCALENDAR
PRODID:-//SINGPromos.com//NONSGML v1.0//EN
VERSION:2.0
CALSCALE:GREGORIAN
METHOD:PUBLISH
X-WR-CALNAME:SINGPromos.com
X-ORIGINAL-URL:https://singpromos.com
X-WR-CALDESC:Events for SINGPromos.com
BEGIN:VEVENT
DTSTART:20130322T000000
DTEND:20130331T235900
DTSTAMP:20260424T024300
CREATED:20130323T133113
LAST-MODIFIED:20130323T034438
UID:61431@https://singpromos.com
SUMMARY:EpiCentre Apple MacBooks, iMacs, iPads & iPod Offers 22 - 31 Mar 2013
DESCRIPTION:Check out EpiCentre's latest offers on Apple products with FREE upgrades and gifts when you purchase selected Apple items, valid till 31 March 2013. For more information, visit [ https://singpromos.com/computers-pc/epicentre-apple-macbooks-imacs-ipads-ipod-offers-22-31-mar-2013-61431/ ]. 
LOCATION:
URL:https://singpromos.com/computers-pc/epicentre-apple-macbooks-imacs-ipads-ipod-offers-22-31-mar-2013-61431/
END:VEVENT
END:VCALENDAR