BEGIN:VCALENDAR
PRODID:-//SINGPromos.com//NONSGML v1.0//EN
VERSION:2.0
CALSCALE:GREGORIAN
METHOD:PUBLISH
X-WR-CALNAME:SINGPromos.com
X-ORIGINAL-URL:https://singpromos.com
X-WR-CALDESC:Events for SINGPromos.com
BEGIN:VEVENT
DTSTART:20130323T000000
DTEND:20130324T235900
DTSTAMP:20260420T214023
CREATED:20130324T131802
LAST-MODIFIED:20130324T132512
UID:61539@https://singpromos.com
SUMMARY:Courts Financial Year End Clearance Offers 23 - 24 Mar 2013
DESCRIPTION:Courts financial year ends this month. Instead of holding stocks and counting them, over $30 million worth of Electrical, I.T, Furniture and Bedding products prices are reduced for clearance.. For more information, visit [ https://singpromos.com/department-stores/courts-financial-year-end-clearance-offers-23-24-mar-2013-61539/ ]. 
LOCATION:
URL:https://singpromos.com/department-stores/courts-financial-year-end-clearance-offers-23-24-mar-2013-61539/
END:VEVENT
END:VCALENDAR