BEGIN:VCALENDAR
PRODID:-//SINGPromos.com//NONSGML v1.0//EN
VERSION:2.0
CALSCALE:GREGORIAN
METHOD:PUBLISH
X-WR-CALNAME:SINGPromos.com
X-ORIGINAL-URL:https://singpromos.com
X-WR-CALDESC:Events for SINGPromos.com
BEGIN:VEVENT
DTSTART:20130327T000000
DTEND:20130331T235900
DTSTAMP:20260422T082151
CREATED:20130327T161012
LAST-MODIFIED:20130327T172334
UID:61767@https://singpromos.com
SUMMARY:G2000 Holiday Special 30% Off Storewide Promotion 27 - 31 Mar 2013
DESCRIPTION:G2000 is throwing a 30% off storewide promotion from 27 March to 31 March 2013, valid only with a minimum purchase of 2 pieces. For more information, visit [ https://singpromos.com/fashion-accessories/g2000-holiday-special-30-off-storewide-promotion-27-31-mar-2013-61767/ ]. 
LOCATION:
URL:https://singpromos.com/fashion-accessories/g2000-holiday-special-30-off-storewide-promotion-27-31-mar-2013-61767/
END:VEVENT
END:VCALENDAR