BEGIN:VCALENDAR
PRODID:-//SINGPromos.com//NONSGML v1.0//EN
VERSION:2.0
CALSCALE:GREGORIAN
METHOD:PUBLISH
X-WR-CALNAME:SINGPromos.com
X-ORIGINAL-URL:https://singpromos.com
X-WR-CALDESC:Events for SINGPromos.com
BEGIN:VEVENT
DTSTART:20130327T000000
DTEND:20130415T235900
DTSTAMP:20260422T082109
CREATED:20130328T110135
LAST-MODIFIED:20130328T010941
UID:61786@https://singpromos.com
SUMMARY:FitFlop Up To 50% Off Men's Selected Styles 27 Mar - 15 Apr 2013
DESCRIPTION:FitFlop is throwing up to 50% off selected men's styles from 27 March to 15 April 2013 at Takashimaya.. For more information, visit [ https://singpromos.com/footwear/fitflop-up-to-50-off-mens-selected-styles-27-mar-15-apr-2013-61786/ ]. 
LOCATION:391 Orchard Road, 238873
URL:https://singpromos.com/footwear/fitflop-up-to-50-off-mens-selected-styles-27-mar-15-apr-2013-61786/
END:VEVENT
END:VCALENDAR