BEGIN:VCALENDAR
PRODID:-//SINGPromos.com//NONSGML v1.0//EN
VERSION:2.0
CALSCALE:GREGORIAN
METHOD:PUBLISH
X-WR-CALNAME:SINGPromos.com
X-ORIGINAL-URL:https://singpromos.com
X-WR-CALDESC:Events for SINGPromos.com
BEGIN:VEVENT
DTSTART:20130329T000000
DTEND:20130412T235900
DTSTAMP:20260420T040700
CREATED:20130330T165055
LAST-MODIFIED:20130330T025623
UID:62059@https://singpromos.com
SUMMARY:Fashion Your Own Runway Show @ 313 Somerset 29 Mar - 12 May 2013
DESCRIPTION:Always wanted to be a fashion stylist? Here's your once-in-a-lifetime chance to work with a pro from ELLE magazine and create new looks for the first-ever, shopper-designed runway show. For more information, visit [ https://singpromos.com/shopping-malls/fashion-your-own-runway-show-313-somerset-29-mar-12-may-2013-62059/ ]. 
LOCATION:
URL:https://singpromos.com/shopping-malls/fashion-your-own-runway-show-313-somerset-29-mar-12-may-2013-62059/
END:VEVENT
END:VCALENDAR