BEGIN:VCALENDAR
PRODID:-//SINGPromos.com//NONSGML v1.0//EN
VERSION:2.0
CALSCALE:GREGORIAN
METHOD:PUBLISH
X-WR-CALNAME:SINGPromos.com
X-ORIGINAL-URL:https://singpromos.com
X-WR-CALDESC:Events for SINGPromos.com
BEGIN:VEVENT
DTSTART:20130329T000000
DTEND:20130331T235900
DTSTAMP:20260420T054128
CREATED:20130330T125628
LAST-MODIFIED:20130330T025833
UID:62064@https://singpromos.com
SUMMARY:Nautica 40% Off Storewide @ Orchard Central 29 - 31 Mar 2013
DESCRIPTION:Nautica is having a storewide up to 40% off sale only at Nautica Orchard Central #01-07 from 29 March to 31 March 2013.. For more information, visit [ https://singpromos.com/fashion-accessories/nautica-summer-sale-up-to-40-off-orchard-central-29-31-mar-2013-62064/ ]. 
LOCATION:
URL:https://singpromos.com/fashion-accessories/nautica-summer-sale-up-to-40-off-orchard-central-29-31-mar-2013-62064/
END:VEVENT
END:VCALENDAR