BEGIN:VCALENDAR
PRODID:-//SINGPromos.com//NONSGML v1.0//EN
VERSION:2.0
CALSCALE:GREGORIAN
METHOD:PUBLISH
X-WR-CALNAME:SINGPromos.com
X-ORIGINAL-URL:https://singpromos.com
X-WR-CALDESC:Events for SINGPromos.com
BEGIN:VEVENT
DTSTART:20130330T000000
DTEND:20130405T235900
DTSTAMP:20260420T040700
CREATED:20130330T141920
LAST-MODIFIED:20130401T213036
UID:62087@https://singpromos.com
SUMMARY:M1 Smartphones, Tablets & Home/Mobile Broadband Offers 30 Mar - 5 Apr 2013
DESCRIPTION:Here is M1's mobile phones, tablets, home broadband and mobile broadband promotions and special offers presumably valid till 5 Apr 2013. For more information, visit [ https://singpromos.com/telecoms/m1-smartphones-tablets-homemobile-broadband-offers-30-mar-5-apr-2013-62087/ ]. 
LOCATION:
URL:https://singpromos.com/telecoms/m1-smartphones-tablets-homemobile-broadband-offers-30-mar-5-apr-2013-62087/
END:VEVENT
END:VCALENDAR