BEGIN:VCALENDAR
PRODID:-//SINGPromos.com//NONSGML v1.0//EN
VERSION:2.0
CALSCALE:GREGORIAN
METHOD:PUBLISH
X-WR-CALNAME:SINGPromos.com
X-ORIGINAL-URL:https://singpromos.com
X-WR-CALDESC:Events for SINGPromos.com
BEGIN:VEVENT
DTSTART:20130330T000000
DTEND:20130405T235900
DTSTAMP:20260420T054206
CREATED:20130330T135550
LAST-MODIFIED:20130330T135931
UID:62104@https://singpromos.com
SUMMARY:Singtel Smartphones, Tablets, Home / Mobile Broadband & Mio TV Offers 30 Mar - 5 Apr 2013
DESCRIPTION:Here is Singtel's mobile phones, tablets and broadband promotions and special offers for this week, presumably valid till 5 Apr 2013. For more information, visit [ https://singpromos.com/telecoms/singtel-smartphones-tablets-home-mobile-broadband-mio-tv-offers-30-mar-5-apr-2013-62104/ ]. 
LOCATION:
URL:https://singpromos.com/telecoms/singtel-smartphones-tablets-home-mobile-broadband-mio-tv-offers-30-mar-5-apr-2013-62104/
END:VEVENT
END:VCALENDAR