BEGIN:VCALENDAR
PRODID:-//SINGPromos.com//NONSGML v1.0//EN
VERSION:2.0
CALSCALE:GREGORIAN
METHOD:PUBLISH
X-WR-CALNAME:SINGPromos.com
X-ORIGINAL-URL:https://singpromos.com
X-WR-CALDESC:Events for SINGPromos.com
BEGIN:VEVENT
DTSTART:20130331T000000
DTEND:20130526T235900
DTSTAMP:20260420T040715
CREATED:20130330T201430
LAST-MODIFIED:20130330T181912
UID:62138@https://singpromos.com
SUMMARY:Timezone Sunday Triple Treats 31 Mar - 26 May 2013
DESCRIPTION:Enjoy Timezone Triple Deals on every Sunday from 31 March 2013 to 26 May 2013. Buy $20 or $50 and get FREE additional value. For more information, visit [ https://singpromos.com/video-games/timezone-sunday-triple-treats-31-mar-26-may-2013-62138/ ]. 
LOCATION:
URL:https://singpromos.com/video-games/timezone-sunday-triple-treats-31-mar-26-may-2013-62138/
END:VEVENT
END:VCALENDAR