BEGIN:VCALENDAR
PRODID:-//SINGPromos.com//NONSGML v1.0//EN
VERSION:2.0
CALSCALE:GREGORIAN
METHOD:PUBLISH
X-WR-CALNAME:SINGPromos.com
X-ORIGINAL-URL:https://singpromos.com
X-WR-CALDESC:Events for SINGPromos.com
BEGIN:VEVENT
DTSTART:20130330T000000
DTEND:20130405T235900
DTSTAMP:20260420T040700
CREATED:20130331T105621
LAST-MODIFIED:20130330T205936
UID:62158@https://singpromos.com
SUMMARY:vHive 10% Off Storewide Wardrobe Fair 30 Mar - 5 Apr 2013
DESCRIPTION:vHive is having a 10% off storewide Wardrobe Fair at all outlets till 5 April 2013.. For more information, visit [ https://singpromos.com/furniture/vhive-10-off-storewide-wardrobe-fair-30-mar-5-apr-2013-62158/ ]. 
LOCATION:
URL:https://singpromos.com/furniture/vhive-10-off-storewide-wardrobe-fair-30-mar-5-apr-2013-62158/
END:VEVENT
END:VCALENDAR