BEGIN:VCALENDAR
PRODID:-//SINGPromos.com//NONSGML v1.0//EN
VERSION:2.0
CALSCALE:GREGORIAN
METHOD:PUBLISH
X-WR-CALNAME:SINGPromos.com
X-ORIGINAL-URL:https://singpromos.com
X-WR-CALDESC:Events for SINGPromos.com
BEGIN:VEVENT
DTSTART:20130401T000000
DTEND:20130407T235900
DTSTAMP:20260420T061840
CREATED:20130401T202143
LAST-MODIFIED:20130401T182647
UID:62202@https://singpromos.com
SUMMARY:British Airways Sydney Promotion Air Fares 1 - 7 Apr 2013
DESCRIPTION:Fly in style with British Airways daily flights to Sydney! Enjoy all-inclusive return fares from S$688 Economy class . For more information, visit [ https://singpromos.com/airlines-flights/british-airways-sydney-promotion-air-fares-1-7-apr-2013-62202/ ]. 
LOCATION:
URL:https://singpromos.com/airlines-flights/british-airways-sydney-promotion-air-fares-1-7-apr-2013-62202/
END:VEVENT
END:VCALENDAR