BEGIN:VCALENDAR
PRODID:-//SINGPromos.com//NONSGML v1.0//EN
VERSION:2.0
CALSCALE:GREGORIAN
METHOD:PUBLISH
X-WR-CALNAME:SINGPromos.com
X-ORIGINAL-URL:https://singpromos.com
X-WR-CALDESC:Events for SINGPromos.com
BEGIN:VEVENT
DTSTART:20130405T000000
DTEND:20130411T235900
DTSTAMP:20260424T034552
CREATED:20130406T114259
LAST-MODIFIED:20130406T014429
UID:62670@https://singpromos.com
SUMMARY:Cold Storage Baby Fair Milk Powder Offers 5 - 11 Apr 2013
DESCRIPTION:Cold Storage is having a Baby Fair promotion offer till 11 April 2013. Not available at Cold Storage online and Cold Storage Speciality stores. For more information, visit [ https://singpromos.com/babies-mothers/cold-storage-baby-fair-milk-powder-offers-5-11-apr-2013-62670/ ]. 
LOCATION:
URL:https://singpromos.com/babies-mothers/cold-storage-baby-fair-milk-powder-offers-5-11-apr-2013-62670/
END:VEVENT
END:VCALENDAR