BEGIN:VCALENDAR
PRODID:-//SINGPromos.com//NONSGML v1.0//EN
VERSION:2.0
CALSCALE:GREGORIAN
METHOD:PUBLISH
X-WR-CALNAME:SINGPromos.com
X-ORIGINAL-URL:https://singpromos.com
X-WR-CALDESC:Events for SINGPromos.com
BEGIN:VEVENT
DTSTART:20130406T000000
DTEND:20130407T235900
DTSTAMP:20260424T020638
CREATED:20130406T194017
LAST-MODIFIED:20130406T194017
UID:62776@https://singpromos.com
SUMMARY:Courts 39th Anniversary Sale 6 - 7 Apr 2013
DESCRIPTION:Courts is having a two day 39th Anniversary Celebration from 6 April to 7 April 2013 with 39,000 deals up for grabs at all Courts stores islandwide. . For more information, visit [ https://singpromos.com/department-stores/courts-39th-anniversary-sale-6-7-apr-2013-62776/ ]. 
LOCATION:
URL:https://singpromos.com/department-stores/courts-39th-anniversary-sale-6-7-apr-2013-62776/
END:VEVENT
END:VCALENDAR