BEGIN:VCALENDAR
PRODID:-//SINGPromos.com//NONSGML v1.0//EN
VERSION:2.0
CALSCALE:GREGORIAN
METHOD:PUBLISH
X-WR-CALNAME:SINGPromos.com
X-ORIGINAL-URL:https://singpromos.com
X-WR-CALDESC:Events for SINGPromos.com
BEGIN:VEVENT
DTSTART:20130417T000000
DTEND:20130519T235900
DTSTAMP:20260424T000152
CREATED:20130418T123313
LAST-MODIFIED:20130417T184116
UID:63669@https://singpromos.com
SUMMARY:Eu Yan Sang Mother's Day Promotion Offers 17 Apr - 19 May 2013
DESCRIPTION:Shower your mum with limited edition Mother's Day Gifts of Love. Get FREE Mother's Day gifts with the following minimum purchase amounts. For more information, visit [ https://singpromos.com/health/eu-yan-sang-mothers-day-promotion-offers-17-apr-19-may-2013-63669/ ]. 
LOCATION:
URL:https://singpromos.com/health/eu-yan-sang-mothers-day-promotion-offers-17-apr-19-may-2013-63669/
END:VEVENT
END:VCALENDAR