BEGIN:VCALENDAR
PRODID:-//SINGPromos.com//NONSGML v1.0//EN
VERSION:2.0
CALSCALE:GREGORIAN
METHOD:PUBLISH
X-WR-CALNAME:SINGPromos.com
X-ORIGINAL-URL:https://singpromos.com
X-WR-CALDESC:Events for SINGPromos.com
BEGIN:VEVENT
DTSTART:20130418T000000
DTEND:20130501T235900
DTSTAMP:20260422T082240
CREATED:20130418T162103
LAST-MODIFIED:20130418T182222
UID:63776@https://singpromos.com
SUMMARY:NTUC Fairprice Electronics, Appliances, Energizer, Air Conditioners & More Offers 18 Apr - 1 May 2013
DESCRIPTION:Here's NTUC Fairprice latest Super Catalogue, wines, appliances and electronics offers, valid till up to 1 May 2013. Check out special offers on Energizer batteries, insect busters, air conditioners and more. For more information, visit [ https://singpromos.com/department-stores/ntuc-fairprice-electronics-appliances-energizer-air-conditioners-more-offers-18-apr-1-may-2013-63776/ ]. 
LOCATION:
URL:https://singpromos.com/department-stores/ntuc-fairprice-electronics-appliances-energizer-air-conditioners-more-offers-18-apr-1-may-2013-63776/
END:VEVENT
END:VCALENDAR