BEGIN:VCALENDAR
PRODID:-//SINGPromos.com//NONSGML v1.0//EN
VERSION:2.0
CALSCALE:GREGORIAN
METHOD:PUBLISH
X-WR-CALNAME:SINGPromos.com
X-ORIGINAL-URL:https://singpromos.com
X-WR-CALDESC:Events for SINGPromos.com
BEGIN:VEVENT
DTSTART:20130420T000000
DTEND:20130426T235900
DTSTAMP:20260422T195449
CREATED:20130420T140825
LAST-MODIFIED:20130427T141410
UID:64009@https://singpromos.com
SUMMARY:Singtel Smartphones, Tablets, Home / Mobile Broadband & Mio TV Offers 20 - 26 Apr 2013
DESCRIPTION:Here is Singtel's mobile phones, tablets and broadband promotions and special offers for this week, presumably valid till 26 Apr 2013. For more information, visit [ https://singpromos.com/telecoms/singtel-smartphones-tablets-home-mobile-broadband-mio-tv-offers-20-26-apr-2013-64009/ ]. 
LOCATION:
URL:https://singpromos.com/telecoms/singtel-smartphones-tablets-home-mobile-broadband-mio-tv-offers-20-26-apr-2013-64009/
END:VEVENT
END:VCALENDAR