BEGIN:VCALENDAR
PRODID:-//SINGPromos.com//NONSGML v1.0//EN
VERSION:2.0
CALSCALE:GREGORIAN
METHOD:PUBLISH
X-WR-CALNAME:SINGPromos.com
X-ORIGINAL-URL:https://singpromos.com
X-WR-CALDESC:Events for SINGPromos.com
BEGIN:VEVENT
DTSTART:20130426T000000
DTEND:20130428T235900
DTSTAMP:20260422T183518
CREATED:20130422T145931
LAST-MODIFIED:20130428T192200
UID:64156@https://singpromos.com
SUMMARY:Food & Electronics Fiesta @ Singapore Expo 26 - 28 Apr 2013
DESCRIPTION:Singapore Expo will be hosting the Food & Electronics Fiesta 2013 from 26 April to 28 April 2013, 11am to 9pm at Hall 5 with 5,000 selling at below cost prices.. For more information, visit [ https://singpromos.com/happenings/food-electronics-fiesta-singapore-expo-26-28-apr-2013-64156/ ]. 
LOCATION:
URL:https://singpromos.com/happenings/food-electronics-fiesta-singapore-expo-26-28-apr-2013-64156/
END:VEVENT
END:VCALENDAR