BEGIN:VCALENDAR
PRODID:-//SINGPromos.com//NONSGML v1.0//EN
VERSION:2.0
CALSCALE:GREGORIAN
METHOD:PUBLISH
X-WR-CALNAME:SINGPromos.com
X-ORIGINAL-URL:https://singpromos.com
X-WR-CALDESC:Events for SINGPromos.com
BEGIN:VEVENT
DTSTART:20130423T000000
DTEND:20130508T235900
DTSTAMP:20260420T040700
CREATED:20130424T131737
LAST-MODIFIED:20130424T011922
UID:64251@https://singpromos.com
SUMMARY:Malaysia Airlines Promotion Air Fares 23 Apr - 8 May 2013
DESCRIPTION:The best of Europe is now closer than ever. Visit Paris and London in luxury and comfort on board Malaysia Airlines A380. For more information, visit [ https://singpromos.com/airlines-flights/malaysia-airlines-promotion-air-fares-23-apr-8-may-2013-64251/ ]. 
LOCATION:
URL:https://singpromos.com/airlines-flights/malaysia-airlines-promotion-air-fares-23-apr-8-may-2013-64251/
END:VEVENT
END:VCALENDAR