BEGIN:VCALENDAR
PRODID:-//SINGPromos.com//NONSGML v1.0//EN
VERSION:2.0
CALSCALE:GREGORIAN
METHOD:PUBLISH
X-WR-CALNAME:SINGPromos.com
X-ORIGINAL-URL:https://singpromos.com
X-WR-CALDESC:Events for SINGPromos.com
BEGIN:VEVENT
DTSTART:20130427T000000
DTEND:20130428T235900
DTSTAMP:20260424T020638
CREATED:20130428T093249
LAST-MODIFIED:20130428T043502
UID:64802@https://singpromos.com
SUMMARY:Courts 39th Anniversary Sale 27 - 28 Apr 2013
DESCRIPTION:Courts 39th Anniversary Celebration Deals continue! Celebrate with them and get your dream items now in their 2 Day Celebration deals. . For more information, visit [ https://singpromos.com/department-stores/courts-39th-anniversary-sale-27-28-apr-2013-64802/ ]. 
LOCATION:
URL:https://singpromos.com/department-stores/courts-39th-anniversary-sale-27-28-apr-2013-64802/
END:VEVENT
END:VCALENDAR