BEGIN:VCALENDAR
PRODID:-//SINGPromos.com//NONSGML v1.0//EN
VERSION:2.0
CALSCALE:GREGORIAN
METHOD:PUBLISH
X-WR-CALNAME:SINGPromos.com
X-ORIGINAL-URL:https://singpromos.com
X-WR-CALDESC:Events for SINGPromos.com
BEGIN:VEVENT
DTSTART:20130430T000000
DTEND:20130531T235900
DTSTAMP:20260422T082129
CREATED:20130430T122813
LAST-MODIFIED:20130506T211507
UID:64895@https://singpromos.com
SUMMARY:Philips Mother's Day Promotion Offers 30 Apr - 31 May 2013
DESCRIPTION:Philips is having some special Mother's Day promotion offers on selected grooming, beauty and kitchen appliances till 31 May 2013. For more information, visit [ https://singpromos.com/home-appliances/philips-mothers-day-promotion-offers-30-apr-31-may-2013-64895/ ]. 
LOCATION:
URL:https://singpromos.com/home-appliances/philips-mothers-day-promotion-offers-30-apr-31-may-2013-64895/
END:VEVENT
END:VCALENDAR