BEGIN:VCALENDAR
PRODID:-//SINGPromos.com//NONSGML v1.0//EN
VERSION:2.0
CALSCALE:GREGORIAN
METHOD:PUBLISH
X-WR-CALNAME:SINGPromos.com
X-ORIGINAL-URL:https://singpromos.com
X-WR-CALDESC:Events for SINGPromos.com
BEGIN:VEVENT
DTSTART:20130430T000000
DTEND:20130505T235900
DTSTAMP:20260422T195503
CREATED:20130430T091734
LAST-MODIFIED:20130430T145634
UID:64913@https://singpromos.com
SUMMARY:Biztex Warehouse Sale 30 Apr - 5 May 2013
DESCRIPTION:Biztex is having a warehouse sale till 5 May 2013, 10am to 7pm with up to 90% off. For more information, visit [ https://singpromos.com/warehouse-sales/biztex-warehouse-sale-30-apr-5-may-2013-64913/ ]. 
LOCATION:623 ALJUNIED ROAD, 389835
URL:https://singpromos.com/warehouse-sales/biztex-warehouse-sale-30-apr-5-may-2013-64913/
END:VEVENT
END:VCALENDAR