BEGIN:VCALENDAR
PRODID:-//SINGPromos.com//NONSGML v1.0//EN
VERSION:2.0
CALSCALE:GREGORIAN
METHOD:PUBLISH
X-WR-CALNAME:SINGPromos.com
X-ORIGINAL-URL:https://singpromos.com
X-WR-CALDESC:Events for SINGPromos.com
BEGIN:VEVENT
DTSTART:20130429T000000
DTEND:20130605T235900
DTSTAMP:20260422T202154
CREATED:20130501T184052
LAST-MODIFIED:20130501T200916
UID:64978@https://singpromos.com
SUMMARY:HP Printers & Scanners Promotion Offers 29 Apr - 5 Jun 2013
DESCRIPTION:Check out the latest promotion for the world's fastest printer, the HP Officejet Pro X! Also includes are the latest prices for HP other printers. For more information, visit [ https://singpromos.com/computers-pc/printers/hp-printers-scanners-promotion-offers-29-apr-5-jun-2013-64978/ ]. 
LOCATION:
URL:https://singpromos.com/computers-pc/printers/hp-printers-scanners-promotion-offers-29-apr-5-jun-2013-64978/
END:VEVENT
END:VCALENDAR