BEGIN:VCALENDAR
PRODID:-//SINGPromos.com//NONSGML v1.0//EN
VERSION:2.0
CALSCALE:GREGORIAN
METHOD:PUBLISH
X-WR-CALNAME:SINGPromos.com
X-ORIGINAL-URL:https://singpromos.com
X-WR-CALDESC:Events for SINGPromos.com
BEGIN:VEVENT
DTSTART:20130501T000000
DTEND:20130505T235900
DTSTAMP:20260420T200127
CREATED:20130501T100219
LAST-MODIFIED:20130505T010811
UID:65007@https://singpromos.com
SUMMARY:Courts 5 Days Holiday Sale 1 - 5 May 2013
DESCRIPTION:Courts is having a 5 Days Holiday Sale to celebrate Labour Day till 5 May 2013. Reward yourself for your hard work this Labour Day!. For more information, visit [ https://singpromos.com/department-stores/courts-5-days-holiday-sale-1-5-may-2013-65007/ ]. 
LOCATION:
URL:https://singpromos.com/department-stores/courts-5-days-holiday-sale-1-5-may-2013-65007/
END:VEVENT
END:VCALENDAR